BEGIN:VCALENDAR
VERSION:2.0
PRODID:-//Hong Kong Stroke Society Website - ECPv6.15.14//NONSGML v1.0//EN
CALSCALE:GREGORIAN
METHOD:PUBLISH
X-ORIGINAL-URL:https://www.stroke.org.hk/home
X-WR-CALDESC:Events for Hong Kong Stroke Society Website
REFRESH-INTERVAL;VALUE=DURATION:PT1H
X-Robots-Tag:noindex
X-PUBLISHED-TTL:PT1H
BEGIN:VTIMEZONE
TZID:Asia/Shanghai
BEGIN:STANDARD
TZOFFSETFROM:+0800
TZOFFSETTO:+0800
TZNAME:CST
DTSTART:20210101T000000
END:STANDARD
END:VTIMEZONE
BEGIN:VEVENT
DTSTART;VALUE=DATE:20221029
DTEND;VALUE=DATE:20221030
DTSTAMP:20260425T082235
CREATED:20221028T174848Z
LAST-MODIFIED:20260122T040158Z
UID:26109-1667001600-1667087999@www.stroke.org.hk
SUMMARY:World Stroke Day 2022
DESCRIPTION:10月29日係　World Stroke Day「#世界中風關注日」 \n\n\n\n今年，香港中風學會將會網上直播「#避風英雄音樂祭」，希望提升大眾對中風同「談笑用兵」嘅認識 。為左更進一步將 中風 同「#談笑用兵」嘅訊息廣傳至全城每個角落，我地搵嚟 林奕匡 Phil Lam 化身 音樂使者，同大家見吓面、唱吓歌。希望用音樂嘅力量，呼籲全港市民化身成為「避風英雄」，一齊「 談笑用兵 急救中風」!  \n\n\n\n想了解當日活動詳情? 記得密切留意我地嘅Facebook專頁啦!10月29日見! \n\n\n\n \n\n\n\n \n\n\n\n \n\n\n\n\n更多世界中風關注日資訊：https://linktr.ee/wsd2022  \n\n\n\nWorld Stroke Organization (WSO) 世界中風學會 世界中風關注日 專頁 \n\n\n\n\n\n\n\nFAST heros 避風英雄
URL:https://www.stroke.org.hk/home/event/world-stroke-day-2022/
LOCATION:online
CATEGORIES:World Stroke Day
END:VEVENT
END:VCALENDAR