BEGIN:VCALENDAR
VERSION:2.0
PRODID:-//Hong Kong Stroke Society Website - ECPv6.15.14//NONSGML v1.0//EN
CALSCALE:GREGORIAN
METHOD:PUBLISH
X-WR-CALNAME:Hong Kong Stroke Society Website
X-ORIGINAL-URL:https://www.stroke.org.hk/home
X-WR-CALDESC:Events for Hong Kong Stroke Society Website
REFRESH-INTERVAL;VALUE=DURATION:PT1H
X-Robots-Tag:noindex
X-PUBLISHED-TTL:PT1H
BEGIN:VTIMEZONE
TZID:Asia/Shanghai
BEGIN:STANDARD
TZOFFSETFROM:+0800
TZOFFSETTO:+0800
TZNAME:CST
DTSTART:20240101T000000
END:STANDARD
END:VTIMEZONE
BEGIN:VEVENT
DTSTART;TZID=Asia/Shanghai:20251026T000000
DTEND;TZID=Asia/Shanghai:20251026T235959
DTSTAMP:20260423T094118
CREATED:20251026T081655Z
LAST-MODIFIED:20260122T081807Z
UID:27436-1761436800-1761523199@www.stroke.org.hk
SUMMARY:World Stroke Day 2025
DESCRIPTION:The Hong Kong Stroke Society commemorated World Stroke Day 2025 with an encore of the successful 2024 Party Tram Tour\, which took place on 26 October 2025. The event began again at Whitty Street Tram Depot in the Western District\, passed through Sheung Wan\, Central\, Wan Chai\, Causeway Bay\, and reached North Point this year\, before turning back to circle around Happy Valley and finally back to Whitty Street. Council members\, stroke nurses\, and medical students spread the word of Stroke Awareness to the public via slogans and props and banners.
URL:https://www.stroke.org.hk/home/event/world-stroke-day-2025/
LOCATION:Hong Kong\, Hong Kong
CATEGORIES:World Stroke Day
END:VEVENT
END:VCALENDAR